BEGIN:VCALENDAR
VERSION:2.0
PRODID:-//Archdiocese of Cincinnati Bicentennial - ECPv6.7.0//NONSGML v1.0//EN
CALSCALE:GREGORIAN
METHOD:PUBLISH
X-WR-CALNAME:Archdiocese of Cincinnati Bicentennial
X-ORIGINAL-URL:https://200.catholicaoc.org
X-WR-CALDESC:Events for Archdiocese of Cincinnati Bicentennial
REFRESH-INTERVAL;VALUE=DURATION:PT1H
X-Robots-Tag:noindex
X-PUBLISHED-TTL:PT1H
BEGIN:VTIMEZONE
TZID:UTC
BEGIN:STANDARD
TZOFFSETFROM:+0000
TZOFFSETTO:+0000
TZNAME:UTC
DTSTART:20210101T000000
END:STANDARD
END:VTIMEZONE
BEGIN:VEVENT
DTSTART;VALUE=DATE:20210607
DTEND;VALUE=DATE:20210608
DTSTAMP:20260425T224358
CREATED:20210306T035647Z
LAST-MODIFIED:20210306T040013Z
UID:3002-1623024000-1623110399@200.catholicaoc.org
SUMMARY:Mass and Marian Concert
DESCRIPTION:Mass\, Holy Hour\, Rosary\, Marian concert\, consecration to Mary\, possibly also children/family activities and reception (depending on the Covid situation).
URL:https://200.catholicaoc.org/event/3002
LOCATION:St. Margaret of York\, 9499 Columbia Rd.\, Loveland\, OH\, 45140\, United States
END:VEVENT
END:VCALENDAR