BEGIN:VCALENDAR
VERSION:2.0
PRODID:-//Archdiocese of Cincinnati Bicentennial - ECPv6.7.0//NONSGML v1.0//EN
CALSCALE:GREGORIAN
METHOD:PUBLISH
X-WR-CALNAME:Archdiocese of Cincinnati Bicentennial
X-ORIGINAL-URL:https://200.catholicaoc.org
X-WR-CALDESC:Events for Archdiocese of Cincinnati Bicentennial
REFRESH-INTERVAL;VALUE=DURATION:PT1H
X-Robots-Tag:noindex
X-PUBLISHED-TTL:PT1H
BEGIN:VTIMEZONE
TZID:UTC
BEGIN:STANDARD
TZOFFSETFROM:+0000
TZOFFSETTO:+0000
TZNAME:UTC
DTSTART:20210101T000000
END:STANDARD
END:VTIMEZONE
BEGIN:VEVENT
DTSTART;VALUE=DATE:20210606
DTEND;VALUE=DATE:20210607
DTSTAMP:20260425T224357
CREATED:20210306T035413Z
LAST-MODIFIED:20210306T035457Z
UID:2999-1622937600-1623023999@200.catholicaoc.org
SUMMARY:Holy Hour and Rosary
DESCRIPTION:Holy Hour and Rosary\, with reflection on Our Lady of Fatima.
URL:https://200.catholicaoc.org/event/holy-hour-and-rosary
LOCATION:St. Maximillian Kolbe\, 5720 Hamilton Mason Rd.\, Liberty Township\, Ohio\, 45011\, United States
END:VEVENT
END:VCALENDAR