BEGIN:VCALENDAR
VERSION:2.0
PRODID:-//Archdiocese of Cincinnati Bicentennial - ECPv6.7.0//NONSGML v1.0//EN
CALSCALE:GREGORIAN
METHOD:PUBLISH
X-ORIGINAL-URL:https://200.catholicaoc.org
X-WR-CALDESC:Events for Archdiocese of Cincinnati Bicentennial
REFRESH-INTERVAL;VALUE=DURATION:PT1H
X-Robots-Tag:noindex
X-PUBLISHED-TTL:PT1H
BEGIN:VTIMEZONE
TZID:UTC
BEGIN:STANDARD
TZOFFSETFROM:+0000
TZOFFSETTO:+0000
TZNAME:UTC
DTSTART:20210101T000000
END:STANDARD
END:VTIMEZONE
BEGIN:VEVENT
DTSTART;VALUE=DATE:20210517
DTEND;VALUE=DATE:20210518
DTSTAMP:20260425T160935
CREATED:20210305T151257Z
LAST-MODIFIED:20210305T151301Z
UID:2918-1621209600-1621295999@200.catholicaoc.org
SUMMARY:Outdoor Rosary
DESCRIPTION:Rosary outdoors by the Mary statue.
URL:https://200.catholicaoc.org/event/outdoor-rosary
LOCATION:Immaculate Conception\, 116 N Mill St.\, Botkins\, OHIO\, 43348
END:VEVENT
BEGIN:VEVENT
DTSTART;VALUE=DATE:20210520
DTEND;VALUE=DATE:20210521
DTSTAMP:20260425T160935
CREATED:20210305T171309Z
LAST-MODIFIED:20210306T045526Z
UID:2937-1621468800-1621555199@200.catholicaoc.org
SUMMARY:Pilgrim Rosary and Procession
DESCRIPTION:Procession into church prior to Rosary & Mass with pilgrim blessing.
URL:https://200.catholicaoc.org/event/pilgrim-rosary-and-procession
LOCATION:Holy Redeemer\, 120 S Eastmoor Dr\, New Bremen\, OH\, 45869\, United States
END:VEVENT
BEGIN:VEVENT
DTSTART;TZID=UTC:20210525T190000
DTEND;TZID=UTC:20210525T190000
DTSTAMP:20260425T160935
CREATED:20210305T180204Z
LAST-MODIFIED:20210305T180204Z
UID:2956-1621969200-1621969200@200.catholicaoc.org
SUMMARY:Mass and Rosary
DESCRIPTION:7pm Mass and Rosary.
URL:https://200.catholicaoc.org/event/mass-and-rosary
LOCATION:St. Patrick\, 409 E Main St.\, Troy\, OH\, 45373\, United States
END:VEVENT
BEGIN:VEVENT
DTSTART;TZID=UTC:20210530T183000
DTEND;TZID=UTC:20210530T183000
DTSTAMP:20260425T160935
CREATED:20210305T182537Z
LAST-MODIFIED:20210305T182537Z
UID:2973-1622399400-1622399400@200.catholicaoc.org
SUMMARY:Prayer Service
DESCRIPTION:6:30pm doors open\, 7:00pm Rosary & Prayer service starts.
URL:https://200.catholicaoc.org/event/prayer-service
LOCATION:St. Benedict the Moor\, 519 Liscum Dr\, Dayton\, OH\, 45417\, United States
END:VEVENT
END:VCALENDAR